BEGIN:VCALENDAR
VERSION:2.0
PRODID:-//Sudbury Water District - ECPv6.15.20//NONSGML v1.0//EN
CALSCALE:GREGORIAN
METHOD:PUBLISH
X-WR-CALNAME:Sudbury Water District
X-ORIGINAL-URL:https://www.sudburywater.com
X-WR-CALDESC:Events for Sudbury Water District
REFRESH-INTERVAL;VALUE=DURATION:PT1H
X-Robots-Tag:noindex
X-PUBLISHED-TTL:PT1H
BEGIN:VTIMEZONE
TZID:America/New_York
BEGIN:DAYLIGHT
TZOFFSETFROM:-0500
TZOFFSETTO:-0400
TZNAME:EDT
DTSTART:20230312T070000
END:DAYLIGHT
BEGIN:STANDARD
TZOFFSETFROM:-0400
TZOFFSETTO:-0500
TZNAME:EST
DTSTART:20231105T060000
END:STANDARD
BEGIN:DAYLIGHT
TZOFFSETFROM:-0500
TZOFFSETTO:-0400
TZNAME:EDT
DTSTART:20240310T070000
END:DAYLIGHT
BEGIN:STANDARD
TZOFFSETFROM:-0400
TZOFFSETTO:-0500
TZNAME:EST
DTSTART:20241103T060000
END:STANDARD
BEGIN:DAYLIGHT
TZOFFSETFROM:-0500
TZOFFSETTO:-0400
TZNAME:EDT
DTSTART:20250309T070000
END:DAYLIGHT
BEGIN:STANDARD
TZOFFSETFROM:-0400
TZOFFSETTO:-0500
TZNAME:EST
DTSTART:20251102T060000
END:STANDARD
BEGIN:DAYLIGHT
TZOFFSETFROM:-0500
TZOFFSETTO:-0400
TZNAME:EDT
DTSTART:20260308T070000
END:DAYLIGHT
BEGIN:STANDARD
TZOFFSETFROM:-0400
TZOFFSETTO:-0500
TZNAME:EST
DTSTART:20261101T060000
END:STANDARD
END:VTIMEZONE
BEGIN:VEVENT
DTSTART;TZID=America/New_York:20250916T170000
DTEND;TZID=America/New_York:20250916T190000
DTSTAMP:20260420T122220
CREATED:20250903T164005Z
LAST-MODIFIED:20251015T165642Z
UID:13131-1758042000-1758049200@www.sudburywater.com
SUMMARY:Commissioners Meeting
DESCRIPTION:Download Meeting Agenda \nDownload Meeting Minutes \n 
URL:https://www.sudburywater.com/meeting/commissioners-meeting-66/
LOCATION:Sudbury Water District Administration Office Conference Room\, 199 Raymond Road\, Sudbury\, MA\, 01776\, United States
ORGANIZER;CN="Sudbury Water District":MAILTO:customerservice@sudburywater.com
END:VEVENT
BEGIN:VEVENT
DTSTART;TZID=America/New_York:20250902T170000
DTEND;TZID=America/New_York:20250902T190000
DTSTAMP:20260420T122220
CREATED:20250731T181047Z
LAST-MODIFIED:20250917T125908Z
UID:13067-1756832400-1756839600@www.sudburywater.com
SUMMARY:Commissioners Meeting
DESCRIPTION:Download Meeting Agenda \nDownload Meeting Minutes
URL:https://www.sudburywater.com/meeting/commissioners-meeting-65/
LOCATION:Sudbury Water District Administration Office Conference Room\, 199 Raymond Road\, Sudbury\, MA\, 01776\, United States
ORGANIZER;CN="Sudbury Water District":MAILTO:customerservice@sudburywater.com
END:VEVENT
BEGIN:VEVENT
DTSTART;TZID=America/New_York:20250829T100000
DTEND;TZID=America/New_York:20250829T110000
DTSTAMP:20260420T122220
CREATED:20250827T134028Z
LAST-MODIFIED:20250903T172559Z
UID:13103-1756461600-1756465200@www.sudburywater.com
SUMMARY:SPECIAL COMMISSIONERS MEETING
DESCRIPTION:Download Meeting Agenda \nDownload Meeting Minutes \n 
URL:https://www.sudburywater.com/meeting/special-commers-meeting/
LOCATION:Sudbury Water District Administration Office Conference Room\, 199 Raymond Road\, Sudbury\, MA\, 01776\, United States
ORGANIZER;CN="Sudbury Water District":MAILTO:customerservice@sudburywater.com
END:VEVENT
BEGIN:VEVENT
DTSTART;TZID=America/New_York:20250805T170000
DTEND;TZID=America/New_York:20250805T190000
DTSTAMP:20260420T122220
CREATED:20250709T201028Z
LAST-MODIFIED:20250903T172519Z
UID:13039-1754413200-1754420400@www.sudburywater.com
SUMMARY:Commissioners Meeting
DESCRIPTION:Download Meeting Agenda \nDownload Meeting Minutes
URL:https://www.sudburywater.com/meeting/commissioners-meeting-64/
LOCATION:Sudbury Water District Administration Office Conference Room\, 199 Raymond Road\, Sudbury\, MA\, 01776\, United States
ORGANIZER;CN="Sudbury Water District":MAILTO:customerservice@sudburywater.com
END:VEVENT
BEGIN:VEVENT
DTSTART;TZID=America/New_York:20250722T140000
DTEND;TZID=America/New_York:20250722T160000
DTSTAMP:20260420T122220
CREATED:20250709T202410Z
LAST-MODIFIED:20250806T175207Z
UID:13040-1753192800-1753200000@www.sudburywater.com
SUMMARY:Commissioners Meeting
DESCRIPTION:Download Meeting Agenda \nDownload Meeting Minutes
URL:https://www.sudburywater.com/meeting/july-22-2025/
LOCATION:Sudbury Water District Administration Office Conference Room\, 199 Raymond Road\, Sudbury\, MA\, 01776\, United States
ORGANIZER;CN="Sudbury Water District":MAILTO:customerservice@sudburywater.com
END:VEVENT
BEGIN:VEVENT
DTSTART;TZID=America/New_York:20250708T170000
DTEND;TZID=America/New_York:20250708T190000
DTSTAMP:20260420T122220
CREATED:20250703T155925Z
LAST-MODIFIED:20250722T213210Z
UID:13025-1751994000-1752001200@www.sudburywater.com
SUMMARY:Commissioners Meeting
DESCRIPTION:Download Meeting Agenda \nDownload Meeting Minutes
URL:https://www.sudburywater.com/meeting/commissioners-meeting-63/
LOCATION:Sudbury Water District Administration Office Conference Room\, 199 Raymond Road\, Sudbury\, MA\, 01776\, United States
ORGANIZER;CN="Sudbury Water District":MAILTO:customerservice@sudburywater.com
END:VEVENT
BEGIN:VEVENT
DTSTART;TZID=America/New_York:20250624T170000
DTEND;TZID=America/New_York:20250624T190000
DTSTAMP:20260420T122220
CREATED:20250606T124828Z
LAST-MODIFIED:20250709T200918Z
UID:13000-1750784400-1750791600@www.sudburywater.com
SUMMARY:Commissioners Meeting
DESCRIPTION:Download Agenda \nDownload Meeting Minutes
URL:https://www.sudburywater.com/meeting/commissioners-meeting-62/
LOCATION:Sudbury Water District Administration Office Conference Room\, 199 Raymond Road\, Sudbury\, MA\, 01776\, United States
ORGANIZER;CN="Sudbury Water District":MAILTO:customerservice@sudburywater.com
END:VEVENT
BEGIN:VEVENT
DTSTART;TZID=America/New_York:20250610T170000
DTEND;TZID=America/New_York:20250610T190000
DTSTAMP:20260420T122220
CREATED:20250514T131513Z
LAST-MODIFIED:20250625T134635Z
UID:12958-1749574800-1749582000@www.sudburywater.com
SUMMARY:Commissioners Meeting
DESCRIPTION:Download Meeting Agenda \nDownload Meeting Minutes
URL:https://www.sudburywater.com/meeting/commissioner-meeting-9/
LOCATION:SWD Administration Bldg.\, Conference Room\, 199 Raymond Road\, Sudbury\, MA\, 01776
ORGANIZER;CN="Sudbury Water District":MAILTO:customerservice@sudburywater.com
END:VEVENT
BEGIN:VEVENT
DTSTART;TZID=America/New_York:20250527T170000
DTEND;TZID=America/New_York:20250527T180000
DTSTAMP:20260420T122220
CREATED:20250523T171737Z
LAST-MODIFIED:20250611T203555Z
UID:12970-1748365200-1748368800@www.sudburywater.com
SUMMARY:Commissioners Meeting
DESCRIPTION:Download Meeting Agenda \nDownload Meeting Minutes
URL:https://www.sudburywater.com/meeting/commissioners-meeting-61/
LOCATION:Administration Building\, Conference Room\, 199 Raymond Road\, Sudbury\, MA\, 01776
ORGANIZER;CN="Sudbury Water District":MAILTO:customerservice@sudburywater.com
END:VEVENT
BEGIN:VEVENT
DTSTART;TZID=America/New_York:20250513T170000
DTEND;TZID=America/New_York:20250513T190000
DTSTAMP:20260420T122220
CREATED:20250430T163442Z
LAST-MODIFIED:20250528T125750Z
UID:12933-1747155600-1747162800@www.sudburywater.com
SUMMARY:Commissioners Meeting
DESCRIPTION:Download Meeting Agenda \nDownload Meeting Minutes
URL:https://www.sudburywater.com/meeting/commissioners-meeting-60/
LOCATION:Sudbury Water District Administration Office Conference Room\, 199 Raymond Road\, Sudbury\, MA\, 01776\, United States
ORGANIZER;CN="Sudbury Water District":MAILTO:customerservice@sudburywater.com
END:VEVENT
BEGIN:VEVENT
DTSTART;TZID=America/New_York:20250429T170000
DTEND;TZID=America/New_York:20250429T190000
DTSTAMP:20260420T122220
CREATED:20250417T135251Z
LAST-MODIFIED:20250514T131250Z
UID:12877-1745946000-1745953200@www.sudburywater.com
SUMMARY:Commissioners Meeting
DESCRIPTION:Download Meeting Agenda \nDownload Meeting Minutes
URL:https://www.sudburywater.com/meeting/commissioners-meeting-59/
LOCATION:Sudbury Water District Administration Office Conference Room\, 199 Raymond Road\, Sudbury\, MA\, 01776\, United States
ORGANIZER;CN="Sudbury Water District":MAILTO:customerservice@sudburywater.com
END:VEVENT
BEGIN:VEVENT
DTSTART;TZID=America/New_York:20250415T170000
DTEND;TZID=America/New_York:20250415T190000
DTSTAMP:20260420T122220
CREATED:20250411T150121Z
LAST-MODIFIED:20250430T163315Z
UID:12866-1744736400-1744743600@www.sudburywater.com
SUMMARY:Commissioners Meeting
DESCRIPTION:Download Agenda \nDownload Meeting Minutes
URL:https://www.sudburywater.com/meeting/commissioner-meeting-8/
LOCATION:SWD Administration Bldg.\, Conference Room\, 199 Raymond Road\, Sudbury\, MA\, 01776
ORGANIZER;CN="Sudbury Water District":MAILTO:customerservice@sudburywater.com
END:VEVENT
BEGIN:VEVENT
DTSTART;TZID=America/New_York:20250401T170000
DTEND;TZID=America/New_York:20250401T190000
DTSTAMP:20260420T122220
CREATED:20250313T150401Z
LAST-MODIFIED:20250417T135130Z
UID:12783-1743526800-1743534000@www.sudburywater.com
SUMMARY:Commissioners Meeting
DESCRIPTION:Download Agenda \nDownload Meeting Minutes
URL:https://www.sudburywater.com/meeting/commissioners-meeting-58/
LOCATION:SWD Administration Bldg.\, Conference Room\, 199 Raymond Road\, Sudbury\, MA\, 01776
ORGANIZER;CN="Sudbury Water District":MAILTO:customerservice@sudburywater.com
END:VEVENT
BEGIN:VEVENT
DTSTART;TZID=America/New_York:20250318T170000
DTEND;TZID=America/New_York:20250318T190000
DTSTAMP:20260420T122220
CREATED:20250305T195144Z
LAST-MODIFIED:20250402T001526Z
UID:12773-1742317200-1742324400@www.sudburywater.com
SUMMARY:Commissioners Meeting
DESCRIPTION:Download Meeting Agenda \nDownload Meeting Minutes
URL:https://www.sudburywater.com/meeting/commissioners-meeting-56/
LOCATION:SWD Administration Bldg.\, Conference Room\, 199 Raymond Road\, Sudbury\, MA\, 01776
ORGANIZER;CN="Sudbury Water District":MAILTO:customerservice@sudburywater.com
END:VEVENT
BEGIN:VEVENT
DTSTART;TZID=America/New_York:20250311T170000
DTEND;TZID=America/New_York:20250311T190000
DTSTAMP:20260420T122220
CREATED:20250308T135735Z
LAST-MODIFIED:20250318T234859Z
UID:12779-1741712400-1741719600@www.sudburywater.com
SUMMARY:Commissioners Meeting
DESCRIPTION:Download Meeting Agenda \nDownload Meeting Minutes
URL:https://www.sudburywater.com/meeting/commissioners-meeting-57/
LOCATION:SWD Administration Bldg.\, Conference Room\, 199 Raymond Road\, Sudbury\, MA\, 01776
ORGANIZER;CN="Sudbury Water District":MAILTO:customerservice@sudburywater.com
END:VEVENT
BEGIN:VEVENT
DTSTART;TZID=America/New_York:20250304T170000
DTEND;TZID=America/New_York:20250304T190000
DTSTAMP:20260420T122220
CREATED:20250219T181619Z
LAST-MODIFIED:20250318T234804Z
UID:12752-1741107600-1741114800@www.sudburywater.com
SUMMARY:Commissioners Meeting
DESCRIPTION:Download Meeting Agenda \nDownload Meeting Minutes
URL:https://www.sudburywater.com/meeting/commissioners-meeting-55/
LOCATION:Sudbury Water District Administration Office Conference Room\, 199 Raymond Road\, Sudbury\, MA\, 01776\, United States
ORGANIZER;CN="Sudbury Water District":MAILTO:customerservice@sudburywater.com
END:VEVENT
BEGIN:VEVENT
DTSTART;TZID=America/New_York:20250218T170000
DTEND;TZID=America/New_York:20250218T190000
DTSTAMP:20260420T122220
CREATED:20250214T172856Z
LAST-MODIFIED:20250319T204412Z
UID:12737-1739898000-1739905200@www.sudburywater.com
SUMMARY:Commissioners Meeting
DESCRIPTION:Download Meeting Agenda \nDownload Meeting Minutes
URL:https://www.sudburywater.com/meeting/commissioners-meeting-54/
LOCATION:Sudbury Water District Administration Office Conference Room\, 199 Raymond Road\, Sudbury\, MA\, 01776\, United States
ORGANIZER;CN="Sudbury Water District":MAILTO:customerservice@sudburywater.com
END:VEVENT
BEGIN:VEVENT
DTSTART;TZID=America/New_York:20250204T170000
DTEND;TZID=America/New_York:20250204T190000
DTSTAMP:20260420T122220
CREATED:20250122T135714Z
LAST-MODIFIED:20250219T181421Z
UID:12701-1738688400-1738695600@www.sudburywater.com
SUMMARY:Commissioners Meeting
DESCRIPTION:Download Meeting Agenda \nDownload Meeting Minutes
URL:https://www.sudburywater.com/meeting/commissioners-meeting-53/
LOCATION:Sudbury Water District Administration Office Conference Room\, 199 Raymond Road\, Sudbury\, MA\, 01776\, United States
ORGANIZER;CN="Sudbury Water District":MAILTO:customerservice@sudburywater.com
END:VEVENT
BEGIN:VEVENT
DTSTART;TZID=America/New_York:20250121T170000
DTEND;TZID=America/New_York:20250121T190000
DTSTAMP:20260420T122220
CREATED:20250108T011658Z
LAST-MODIFIED:20250205T163302Z
UID:12690-1737478800-1737486000@www.sudburywater.com
SUMMARY:Commissioners Meeting
DESCRIPTION:Download Meeting Agenda \nDownload Meeting Minutes
URL:https://www.sudburywater.com/meeting/commissioners-meeting-52/
LOCATION:Sudbury Water District Administration Office Conference Room\, 199 Raymond Road\, Sudbury\, MA\, 01776\, United States
ORGANIZER;CN="Sudbury Water District":MAILTO:customerservice@sudburywater.com
END:VEVENT
BEGIN:VEVENT
DTSTART;TZID=America/New_York:20250107T170000
DTEND;TZID=America/New_York:20250107T190000
DTSTAMP:20260420T122220
CREATED:20241213T135837Z
LAST-MODIFIED:20250122T135522Z
UID:12671-1736269200-1736276400@www.sudburywater.com
SUMMARY:Commissioners Meeting
DESCRIPTION:Download Meeting Agenda \nDownload Meeting Minutes
URL:https://www.sudburywater.com/meeting/commissioners-meeting-51/
LOCATION:SWD Administration Bldg.\, Conference Room\, 199 Raymond Road\, Sudbury\, MA\, 01776
ORGANIZER;CN="Sudbury Water District":MAILTO:customerservice@sudburywater.com
END:VEVENT
BEGIN:VEVENT
DTSTART;TZID=America/New_York:20241217T170000
DTEND;TZID=America/New_York:20241217T190000
DTSTAMP:20260420T122220
CREATED:20241203T011207Z
LAST-MODIFIED:20250108T011526Z
UID:12665-1734454800-1734462000@www.sudburywater.com
SUMMARY:Commissioners Meeting
DESCRIPTION:Download Meeting Agenda \nDownload Meeting Minutes \n 
URL:https://www.sudburywater.com/meeting/commissioners-meeting-50/
LOCATION:Sudbury Water District Administration Office Conference Room\, 199 Raymond Road\, Sudbury\, MA\, 01776\, United States
ORGANIZER;CN="Sudbury Water District":MAILTO:customerservice@sudburywater.com
END:VEVENT
BEGIN:VEVENT
DTSTART;TZID=America/New_York:20241202T170000
DTEND;TZID=America/New_York:20241202T190000
DTSTAMP:20260420T122220
CREATED:20241113T132731Z
LAST-MODIFIED:20241218T163937Z
UID:12614-1733158800-1733166000@www.sudburywater.com
SUMMARY:Commissioners Meeting
DESCRIPTION:Download Meeting Agenda \nDownload Meeting Minutes
URL:https://www.sudburywater.com/meeting/commissioners-meeting-49/
LOCATION:SWD Administration Bldg.\, Conference Room\, 199 Raymond Road\, Sudbury\, MA\, 01776
ORGANIZER;CN="Sudbury Water District":MAILTO:customerservice@sudburywater.com
END:VEVENT
BEGIN:VEVENT
DTSTART;TZID=America/New_York:20241112T170000
DTEND;TZID=America/New_York:20241112T190000
DTSTAMP:20260420T122220
CREATED:20241101T131311Z
LAST-MODIFIED:20241203T011019Z
UID:12604-1731430800-1731438000@www.sudburywater.com
SUMMARY:Commissioners Meeting
DESCRIPTION:Download Meeting Agenda \nDownload Meeting Minutes
URL:https://www.sudburywater.com/meeting/commissioners-meeting-48/
LOCATION:Sudbury Water District Administration Office Conference Room\, 199 Raymond Road\, Sudbury\, MA\, 01776\, United States
ORGANIZER;CN="Sudbury Water District":MAILTO:customerservice@sudburywater.com
END:VEVENT
BEGIN:VEVENT
DTSTART;TZID=America/New_York:20241029T170000
DTEND;TZID=America/New_York:20241029T190000
DTSTAMP:20260420T122220
CREATED:20241025T143735Z
LAST-MODIFIED:20241113T135816Z
UID:12592-1730221200-1730228400@www.sudburywater.com
SUMMARY:Commissioner Meeting
DESCRIPTION:Download Meeting Agenda \nDownload Meeting Minutes
URL:https://www.sudburywater.com/meeting/commissioner-meeting-7/
LOCATION:Sudbury Water District Administration Office Conference Room\, 199 Raymond Road\, Sudbury\, MA\, 01776\, United States
END:VEVENT
BEGIN:VEVENT
DTSTART;TZID=America/New_York:20241015T170000
DTEND;TZID=America/New_York:20241015T190000
DTSTAMP:20260420T122220
CREATED:20241008T160827Z
LAST-MODIFIED:20241030T140510Z
UID:12547-1729011600-1729018800@www.sudburywater.com
SUMMARY:Commissioners Meeting
DESCRIPTION:Download Meeting Agenda \nDownload Meeting Minutes
URL:https://www.sudburywater.com/meeting/commissioners-meeting-47/
LOCATION:SWD Administration Bldg.\, Conference Room\, 199 Raymond Road\, Sudbury\, MA\, 01776
ORGANIZER;CN="Sudbury Water District":MAILTO:customerservice@sudburywater.com
END:VEVENT
BEGIN:VEVENT
DTSTART;TZID=America/New_York:20241001T170000
DTEND;TZID=America/New_York:20241001T190000
DTSTAMP:20260420T122220
CREATED:20240917T230604Z
LAST-MODIFIED:20241030T140131Z
UID:12524-1727802000-1727809200@www.sudburywater.com
SUMMARY:Commissioners Meeting
DESCRIPTION:Download Meeting Agenda \nDownload Meeting Minutes
URL:https://www.sudburywater.com/meeting/commissioners-meeting-46/
LOCATION:Sudbury Water District Administration Office Conference Room\, 199 Raymond Road\, Sudbury\, MA\, 01776\, United States
ORGANIZER;CN="Sudbury Water District":MAILTO:customerservice@sudburywater.com
END:VEVENT
BEGIN:VEVENT
DTSTART;TZID=America/New_York:20240917T170000
DTEND;TZID=America/New_York:20240917T190000
DTSTAMP:20260420T122220
CREATED:20240903T233126Z
LAST-MODIFIED:20241001T230522Z
UID:12507-1726592400-1726599600@www.sudburywater.com
SUMMARY:Commissioners Meeting
DESCRIPTION:Download Meeting Agenda \nDownload Meeting Minutes
URL:https://www.sudburywater.com/meeting/commissioner-meeting-6/
LOCATION:Sudbury Water District Administration Office Conference Room\, 199 Raymond Road\, Sudbury\, MA\, 01776\, United States
ORGANIZER;CN="Sudbury Water District":MAILTO:customerservice@sudburywater.com
END:VEVENT
BEGIN:VEVENT
DTSTART;TZID=America/New_York:20240903T080000
DTEND;TZID=America/New_York:20240903T170000
DTSTAMP:20260420T122220
CREATED:20240814T135942Z
LAST-MODIFIED:20240917T230426Z
UID:12359-1725350400-1725382800@www.sudburywater.com
SUMMARY:Commissioners Meeting
DESCRIPTION:Download Meeting Agenda \nDownload Meeting Minutes
URL:https://www.sudburywater.com/meeting/commissioners-meeting-45/
LOCATION:Administration Building\, Conference Room\, 199 Raymond Road\, Sudbury\, MA\, 01776
ORGANIZER;CN="Sudbury Water District":MAILTO:customerservice@sudburywater.com
END:VEVENT
BEGIN:VEVENT
DTSTART;TZID=America/New_York:20240813T170000
DTEND;TZID=America/New_York:20240813T190000
DTSTAMP:20260420T122220
CREATED:20240716T180441Z
LAST-MODIFIED:20240903T232955Z
UID:12312-1723568400-1723575600@www.sudburywater.com
SUMMARY:Commissioners Meeting
DESCRIPTION:Download Meeting Agenda \nDownload Meeting Minutes
URL:https://www.sudburywater.com/meeting/commissioners-meeting-44/
LOCATION:Sudbury Water District Administration Office Conference Room\, 199 Raymond Road\, Sudbury\, MA\, 01776\, United States
ORGANIZER;CN="Sudbury Water District":MAILTO:customerservice@sudburywater.com
END:VEVENT
BEGIN:VEVENT
DTSTART;TZID=America/New_York:20240723T170000
DTEND;TZID=America/New_York:20240723T190000
DTSTAMP:20260420T122220
CREATED:20240620T160127Z
LAST-MODIFIED:20240814T133014Z
UID:12265-1721754000-1721761200@www.sudburywater.com
SUMMARY:Commissioners Meeting
DESCRIPTION:Download Meeting Agenda \nDownload Meeting Minutes
URL:https://www.sudburywater.com/meeting/commissioners-meeting-43/
LOCATION:Sudbury Water District Administration Office Conference Room\, 199 Raymond Road\, Sudbury\, MA\, 01776\, United States
ORGANIZER;CN="Sudbury Water District":MAILTO:customerservice@sudburywater.com
END:VEVENT
END:VCALENDAR