BEGIN:VCALENDAR
VERSION:2.0
PRODID:-//Sudbury Water District - ECPv6.15.20//NONSGML v1.0//EN
CALSCALE:GREGORIAN
METHOD:PUBLISH
X-WR-CALNAME:Sudbury Water District
X-ORIGINAL-URL:https://www.sudburywater.com
X-WR-CALDESC:Events for Sudbury Water District
REFRESH-INTERVAL;VALUE=DURATION:PT1H
X-Robots-Tag:noindex
X-PUBLISHED-TTL:PT1H
BEGIN:VTIMEZONE
TZID:America/New_York
BEGIN:DAYLIGHT
TZOFFSETFROM:-0500
TZOFFSETTO:-0400
TZNAME:EDT
DTSTART:20220313T070000
END:DAYLIGHT
BEGIN:STANDARD
TZOFFSETFROM:-0400
TZOFFSETTO:-0500
TZNAME:EST
DTSTART:20221106T060000
END:STANDARD
BEGIN:DAYLIGHT
TZOFFSETFROM:-0500
TZOFFSETTO:-0400
TZNAME:EDT
DTSTART:20230312T070000
END:DAYLIGHT
BEGIN:STANDARD
TZOFFSETFROM:-0400
TZOFFSETTO:-0500
TZNAME:EST
DTSTART:20231105T060000
END:STANDARD
BEGIN:DAYLIGHT
TZOFFSETFROM:-0500
TZOFFSETTO:-0400
TZNAME:EDT
DTSTART:20240310T070000
END:DAYLIGHT
BEGIN:STANDARD
TZOFFSETFROM:-0400
TZOFFSETTO:-0500
TZNAME:EST
DTSTART:20241103T060000
END:STANDARD
BEGIN:DAYLIGHT
TZOFFSETFROM:-0500
TZOFFSETTO:-0400
TZNAME:EDT
DTSTART:20250309T070000
END:DAYLIGHT
BEGIN:STANDARD
TZOFFSETFROM:-0400
TZOFFSETTO:-0500
TZNAME:EST
DTSTART:20251102T060000
END:STANDARD
BEGIN:DAYLIGHT
TZOFFSETFROM:-0500
TZOFFSETTO:-0400
TZNAME:EDT
DTSTART:20260308T070000
END:DAYLIGHT
BEGIN:STANDARD
TZOFFSETFROM:-0400
TZOFFSETTO:-0500
TZNAME:EST
DTSTART:20261101T060000
END:STANDARD
END:VTIMEZONE
BEGIN:VEVENT
DTSTART;TZID=America/New_York:20250107T170000
DTEND;TZID=America/New_York:20250107T190000
DTSTAMP:20260421T052152
CREATED:20241213T135837Z
LAST-MODIFIED:20250122T135522Z
UID:12671-1736269200-1736276400@www.sudburywater.com
SUMMARY:Commissioners Meeting
DESCRIPTION:Download Meeting Agenda \nDownload Meeting Minutes
URL:https://www.sudburywater.com/meeting/commissioners-meeting-51/
LOCATION:SWD Administration Bldg.\, Conference Room\, 199 Raymond Road\, Sudbury\, MA\, 01776
ORGANIZER;CN="Sudbury Water District":MAILTO:customerservice@sudburywater.com
END:VEVENT
BEGIN:VEVENT
DTSTART;TZID=America/New_York:20241217T170000
DTEND;TZID=America/New_York:20241217T190000
DTSTAMP:20260421T052152
CREATED:20241203T011207Z
LAST-MODIFIED:20250108T011526Z
UID:12665-1734454800-1734462000@www.sudburywater.com
SUMMARY:Commissioners Meeting
DESCRIPTION:Download Meeting Agenda \nDownload Meeting Minutes \n 
URL:https://www.sudburywater.com/meeting/commissioners-meeting-50/
LOCATION:Sudbury Water District Administration Office Conference Room\, 199 Raymond Road\, Sudbury\, MA\, 01776\, United States
ORGANIZER;CN="Sudbury Water District":MAILTO:customerservice@sudburywater.com
END:VEVENT
BEGIN:VEVENT
DTSTART;TZID=America/New_York:20241202T170000
DTEND;TZID=America/New_York:20241202T190000
DTSTAMP:20260421T052152
CREATED:20241113T132731Z
LAST-MODIFIED:20241218T163937Z
UID:12614-1733158800-1733166000@www.sudburywater.com
SUMMARY:Commissioners Meeting
DESCRIPTION:Download Meeting Agenda \nDownload Meeting Minutes
URL:https://www.sudburywater.com/meeting/commissioners-meeting-49/
LOCATION:SWD Administration Bldg.\, Conference Room\, 199 Raymond Road\, Sudbury\, MA\, 01776
ORGANIZER;CN="Sudbury Water District":MAILTO:customerservice@sudburywater.com
END:VEVENT
BEGIN:VEVENT
DTSTART;TZID=America/New_York:20241112T170000
DTEND;TZID=America/New_York:20241112T190000
DTSTAMP:20260421T052152
CREATED:20241101T131311Z
LAST-MODIFIED:20241203T011019Z
UID:12604-1731430800-1731438000@www.sudburywater.com
SUMMARY:Commissioners Meeting
DESCRIPTION:Download Meeting Agenda \nDownload Meeting Minutes
URL:https://www.sudburywater.com/meeting/commissioners-meeting-48/
LOCATION:Sudbury Water District Administration Office Conference Room\, 199 Raymond Road\, Sudbury\, MA\, 01776\, United States
ORGANIZER;CN="Sudbury Water District":MAILTO:customerservice@sudburywater.com
END:VEVENT
BEGIN:VEVENT
DTSTART;TZID=America/New_York:20241029T170000
DTEND;TZID=America/New_York:20241029T190000
DTSTAMP:20260421T052152
CREATED:20241025T143735Z
LAST-MODIFIED:20241113T135816Z
UID:12592-1730221200-1730228400@www.sudburywater.com
SUMMARY:Commissioner Meeting
DESCRIPTION:Download Meeting Agenda \nDownload Meeting Minutes
URL:https://www.sudburywater.com/meeting/commissioner-meeting-7/
LOCATION:Sudbury Water District Administration Office Conference Room\, 199 Raymond Road\, Sudbury\, MA\, 01776\, United States
END:VEVENT
BEGIN:VEVENT
DTSTART;TZID=America/New_York:20241015T170000
DTEND;TZID=America/New_York:20241015T190000
DTSTAMP:20260421T052152
CREATED:20241008T160827Z
LAST-MODIFIED:20241030T140510Z
UID:12547-1729011600-1729018800@www.sudburywater.com
SUMMARY:Commissioners Meeting
DESCRIPTION:Download Meeting Agenda \nDownload Meeting Minutes
URL:https://www.sudburywater.com/meeting/commissioners-meeting-47/
LOCATION:SWD Administration Bldg.\, Conference Room\, 199 Raymond Road\, Sudbury\, MA\, 01776
ORGANIZER;CN="Sudbury Water District":MAILTO:customerservice@sudburywater.com
END:VEVENT
BEGIN:VEVENT
DTSTART;TZID=America/New_York:20241001T170000
DTEND;TZID=America/New_York:20241001T190000
DTSTAMP:20260421T052152
CREATED:20240917T230604Z
LAST-MODIFIED:20241030T140131Z
UID:12524-1727802000-1727809200@www.sudburywater.com
SUMMARY:Commissioners Meeting
DESCRIPTION:Download Meeting Agenda \nDownload Meeting Minutes
URL:https://www.sudburywater.com/meeting/commissioners-meeting-46/
LOCATION:Sudbury Water District Administration Office Conference Room\, 199 Raymond Road\, Sudbury\, MA\, 01776\, United States
ORGANIZER;CN="Sudbury Water District":MAILTO:customerservice@sudburywater.com
END:VEVENT
BEGIN:VEVENT
DTSTART;TZID=America/New_York:20240917T170000
DTEND;TZID=America/New_York:20240917T190000
DTSTAMP:20260421T052152
CREATED:20240903T233126Z
LAST-MODIFIED:20241001T230522Z
UID:12507-1726592400-1726599600@www.sudburywater.com
SUMMARY:Commissioners Meeting
DESCRIPTION:Download Meeting Agenda \nDownload Meeting Minutes
URL:https://www.sudburywater.com/meeting/commissioner-meeting-6/
LOCATION:Sudbury Water District Administration Office Conference Room\, 199 Raymond Road\, Sudbury\, MA\, 01776\, United States
ORGANIZER;CN="Sudbury Water District":MAILTO:customerservice@sudburywater.com
END:VEVENT
BEGIN:VEVENT
DTSTART;TZID=America/New_York:20240903T080000
DTEND;TZID=America/New_York:20240903T170000
DTSTAMP:20260421T052152
CREATED:20240814T135942Z
LAST-MODIFIED:20240917T230426Z
UID:12359-1725350400-1725382800@www.sudburywater.com
SUMMARY:Commissioners Meeting
DESCRIPTION:Download Meeting Agenda \nDownload Meeting Minutes
URL:https://www.sudburywater.com/meeting/commissioners-meeting-45/
LOCATION:Administration Building\, Conference Room\, 199 Raymond Road\, Sudbury\, MA\, 01776
ORGANIZER;CN="Sudbury Water District":MAILTO:customerservice@sudburywater.com
END:VEVENT
BEGIN:VEVENT
DTSTART;TZID=America/New_York:20240813T170000
DTEND;TZID=America/New_York:20240813T190000
DTSTAMP:20260421T052152
CREATED:20240716T180441Z
LAST-MODIFIED:20240903T232955Z
UID:12312-1723568400-1723575600@www.sudburywater.com
SUMMARY:Commissioners Meeting
DESCRIPTION:Download Meeting Agenda \nDownload Meeting Minutes
URL:https://www.sudburywater.com/meeting/commissioners-meeting-44/
LOCATION:Sudbury Water District Administration Office Conference Room\, 199 Raymond Road\, Sudbury\, MA\, 01776\, United States
ORGANIZER;CN="Sudbury Water District":MAILTO:customerservice@sudburywater.com
END:VEVENT
BEGIN:VEVENT
DTSTART;TZID=America/New_York:20240723T170000
DTEND;TZID=America/New_York:20240723T190000
DTSTAMP:20260421T052152
CREATED:20240620T160127Z
LAST-MODIFIED:20240814T133014Z
UID:12265-1721754000-1721761200@www.sudburywater.com
SUMMARY:Commissioners Meeting
DESCRIPTION:Download Meeting Agenda \nDownload Meeting Minutes
URL:https://www.sudburywater.com/meeting/commissioners-meeting-43/
LOCATION:Sudbury Water District Administration Office Conference Room\, 199 Raymond Road\, Sudbury\, MA\, 01776\, United States
ORGANIZER;CN="Sudbury Water District":MAILTO:customerservice@sudburywater.com
END:VEVENT
BEGIN:VEVENT
DTSTART;TZID=America/New_York:20240624T170000
DTEND;TZID=America/New_York:20240624T190000
DTSTAMP:20260421T052152
CREATED:20240618T182755Z
LAST-MODIFIED:20240724T142844Z
UID:12260-1719248400-1719255600@www.sudburywater.com
SUMMARY:Commissioners Meeting
DESCRIPTION:Download Meeting Agenda \nDownload Meeting Minutes \n 
URL:https://www.sudburywater.com/meeting/commissioners-meeting-42/
LOCATION:Sudbury Water District Administration Office Conference Room\, 199 Raymond Road\, Sudbury\, MA\, 01776\, United States
ORGANIZER;CN="Sudbury Water District":MAILTO:customerservice@sudburywater.com
END:VEVENT
BEGIN:VEVENT
DTSTART;TZID=America/New_York:20240611T170000
DTEND;TZID=America/New_York:20240611T180000
DTSTAMP:20260421T052152
CREATED:20240528T181800Z
LAST-MODIFIED:20240724T142720Z
UID:12203-1718125200-1718128800@www.sudburywater.com
SUMMARY:Commissioners Meeting
DESCRIPTION:Download Meeting Agenda \nDownload Meeting Minutes
URL:https://www.sudburywater.com/meeting/commissioners-meeting-41/
LOCATION:Sudbury Water District Administration Office Conference Room\, 199 Raymond Road\, Sudbury\, MA\, 01776\, United States
ORGANIZER;CN="Sudbury Water District":MAILTO:customerservice@sudburywater.com
END:VEVENT
BEGIN:VEVENT
DTSTART;TZID=America/New_York:20240528T170000
DTEND;TZID=America/New_York:20240528T180000
DTSTAMP:20260421T052152
CREATED:20240528T181151Z
LAST-MODIFIED:20240528T181401Z
UID:12202-1716915600-1716919200@www.sudburywater.com
SUMMARY:Commissioners Meeting
DESCRIPTION:Cancelled
URL:https://www.sudburywater.com/meeting/commissioners-meeting-40/
LOCATION:Sudbury Water District Administration Office Conference Room\, 199 Raymond Road\, Sudbury\, MA\, 01776\, United States
ORGANIZER;CN="Sudbury Water District":MAILTO:customerservice@sudburywater.com
END:VEVENT
BEGIN:VEVENT
DTSTART;TZID=America/New_York:20240514T170000
DTEND;TZID=America/New_York:20240514T190000
DTSTAMP:20260421T052152
CREATED:20240501T131110Z
LAST-MODIFIED:20240612T200500Z
UID:12142-1715706000-1715713200@www.sudburywater.com
SUMMARY:Commissioners Meeting
DESCRIPTION:Download Meeting Agenda \nDownload Meeting Minutes
URL:https://www.sudburywater.com/meeting/commissioners-meeting-39/
LOCATION:SWD Administration Bldg.\, Conference Room\, 199 Raymond Road\, Sudbury\, MA\, 01776
ORGANIZER;CN="Sudbury Water District":MAILTO:customerservice@sudburywater.com
END:VEVENT
BEGIN:VEVENT
DTSTART;TZID=America/New_York:20240430T170000
DTEND;TZID=America/New_York:20240430T190000
DTSTAMP:20260421T052152
CREATED:20240418T162100Z
LAST-MODIFIED:20240515T151430Z
UID:12063-1714496400-1714503600@www.sudburywater.com
SUMMARY:Commissioners Meeting
DESCRIPTION:Download Agenda \nDownload Meeting Minutes
URL:https://www.sudburywater.com/meeting/commissioners-meeting-38/
LOCATION:Sudbury Water District Administration Office Conference Room\, 199 Raymond Road\, Sudbury\, MA\, 01776\, United States
ORGANIZER;CN="Sudbury Water District":MAILTO:customerservice@sudburywater.com
END:VEVENT
BEGIN:VEVENT
DTSTART;TZID=America/New_York:20240422T080000
DTEND;TZID=America/New_York:20240422T100000
DTSTAMP:20260421T052152
CREATED:20240418T161916Z
LAST-MODIFIED:20240501T132858Z
UID:12060-1713772800-1713780000@www.sudburywater.com
SUMMARY:Commissioners Meeting
DESCRIPTION:Download Meeting Agenda \nDownload Meeting Minutes
URL:https://www.sudburywater.com/meeting/commissioners-meeting-37/
LOCATION:Sudbury Water District Administration Office Conference Room\, 199 Raymond Road\, Sudbury\, MA\, 01776\, United States
ORGANIZER;CN="Sudbury Water District":MAILTO:customerservice@sudburywater.com
END:VEVENT
BEGIN:VEVENT
DTSTART;TZID=America/New_York:20240416T170000
DTEND;TZID=America/New_York:20240416T190000
DTSTAMP:20260421T052152
CREATED:20240411T154929Z
LAST-MODIFIED:20240501T132547Z
UID:12023-1713286800-1713294000@www.sudburywater.com
SUMMARY:Commissioners Meeting
DESCRIPTION:Download Meeting Agenda \nDownload Meeting Minutes
URL:https://www.sudburywater.com/meeting/commissioners-meeting-36/
LOCATION:Sudbury Water District Administration Office Conference Room\, 199 Raymond Road\, Sudbury\, MA\, 01776\, United States
ORGANIZER;CN="Sudbury Water District":MAILTO:customerservice@sudburywater.com
END:VEVENT
BEGIN:VEVENT
DTSTART;TZID=America/New_York:20240402T170000
DTEND;TZID=America/New_York:20240402T190000
DTSTAMP:20260421T052152
CREATED:20240326T165529Z
LAST-MODIFIED:20240417T135721Z
UID:11966-1712077200-1712084400@www.sudburywater.com
SUMMARY:Commissioners Meeting
DESCRIPTION:Download Meeting Agenda \nDownload Meeting Minutes
URL:https://www.sudburywater.com/meeting/commissioners-meeting-35/
LOCATION:Sudbury Water District Administration Office Conference Room\, 199 Raymond Road\, Sudbury\, MA\, 01776\, United States
ORGANIZER;CN="Sudbury Water District":MAILTO:customerservice@sudburywater.com
END:VEVENT
BEGIN:VEVENT
DTSTART;TZID=America/New_York:20240325T170000
DTEND;TZID=America/New_York:20240325T190000
DTSTAMP:20260421T052152
CREATED:20240316T145541Z
LAST-MODIFIED:20240402T233919Z
UID:11945-1711386000-1711393200@www.sudburywater.com
SUMMARY:Commissioners Meeting
DESCRIPTION:Download Meeting Agenda \nDownload Meeting Minutes
URL:https://www.sudburywater.com/meeting/commissioners-meeting-34/
LOCATION:Sudbury Water District Administration Office Conference Room\, 199 Raymond Road\, Sudbury\, MA\, 01776\, United States
ORGANIZER;CN="Sudbury Water District":MAILTO:customerservice@sudburywater.com
END:VEVENT
BEGIN:VEVENT
DTSTART;TZID=America/New_York:20240315T140000
DTEND;TZID=America/New_York:20240315T160000
DTSTAMP:20260421T052152
CREATED:20240306T205907Z
LAST-MODIFIED:20240326T164305Z
UID:11935-1710511200-1710518400@www.sudburywater.com
SUMMARY:Commissioners Meeting
DESCRIPTION:Download Meeting Agenda \nDownload Meeting Minutes \n 
URL:https://www.sudburywater.com/meeting/commissioners-meeting-33/
LOCATION:Virtual Meeting\, Please Refer to Agenda\, MA
ORGANIZER;CN="Sudbury Water District":MAILTO:customerservice@sudburywater.com
END:VEVENT
BEGIN:VEVENT
DTSTART;TZID=America/New_York:20240305T170000
DTEND;TZID=America/New_York:20240305T190000
DTSTAMP:20260421T052152
CREATED:20240221T135148Z
LAST-MODIFIED:20240326T164929Z
UID:11895-1709658000-1709665200@www.sudburywater.com
SUMMARY:Commissioners Meeting
DESCRIPTION:Download Meeting Agenda \nDownload Meeting Minutes \n 
URL:https://www.sudburywater.com/meeting/commissioners-meeting-32/
LOCATION:Sudbury Water District Administration Office Conference Room\, 199 Raymond Road\, Sudbury\, MA\, 01776\, United States
END:VEVENT
BEGIN:VEVENT
DTSTART;TZID=America/New_York:20240220T170000
DTEND;TZID=America/New_York:20240220T190000
DTSTAMP:20260421T052152
CREATED:20240215T132803Z
LAST-MODIFIED:20240215T134306Z
UID:11886-1708448400-1708455600@www.sudburywater.com
SUMMARY:Commissioners Meeting
DESCRIPTION:Download Meeting Agenda
URL:https://www.sudburywater.com/meeting/commissioners-meeting-31/
LOCATION:Sudbury Water District Administration Office Conference Room\, 199 Raymond Road\, Sudbury\, MA\, 01776\, United States
END:VEVENT
BEGIN:VEVENT
DTSTART;TZID=America/New_York:20240206T170000
DTEND;TZID=America/New_York:20240206T190000
DTSTAMP:20260421T052152
CREATED:20240124T021853Z
LAST-MODIFIED:20240221T135813Z
UID:11841-1707238800-1707246000@www.sudburywater.com
SUMMARY:Commissioners Meeting
DESCRIPTION:Download Meeting Agenda \nDownload Meeting Minutes \n 
URL:https://www.sudburywater.com/meeting/commissioners-meeting-30/
LOCATION:Sudbury Water District Administration Office Conference Room\, 199 Raymond Road\, Sudbury\, MA\, 01776\, United States
ORGANIZER;CN="Sudbury Water District":MAILTO:customerservice@sudburywater.com
END:VEVENT
BEGIN:VEVENT
DTSTART;TZID=America/New_York:20240123T170000
DTEND;TZID=America/New_York:20240123T190000
DTSTAMP:20260421T052152
CREATED:20231213T210010Z
LAST-MODIFIED:20240207T142218Z
UID:11805-1706029200-1706036400@www.sudburywater.com
SUMMARY:Commissioners Meeting
DESCRIPTION:Download Meeting Agenda \nDownload Meeting Minutes \n  \n 
URL:https://www.sudburywater.com/meeting/commissioners-meeting-28/
LOCATION:SWD Administration Bldg.\, Conference Room\, 199 Raymond Road\, Sudbury\, MA\, 01776
END:VEVENT
BEGIN:VEVENT
DTSTART;TZID=America/New_York:20240118T170000
DTEND;TZID=America/New_York:20240118T190000
DTSTAMP:20260421T052152
CREATED:20240109T185041Z
LAST-MODIFIED:20240124T021626Z
UID:11823-1705597200-1705604400@www.sudburywater.com
SUMMARY:Commissioners Meeting
DESCRIPTION:Download Agenda\nDownload Meeting Minutes
URL:https://www.sudburywater.com/meeting/commissioners-meeting-29/
LOCATION:SWD Administration Bldg.\, Conference Room\, 199 Raymond Road\, Sudbury\, MA\, 01776
CATEGORIES:Meetings
ORGANIZER;CN="Sudbury Water District":MAILTO:customerservice@sudburywater.com
END:VEVENT
BEGIN:VEVENT
DTSTART;TZID=America/New_York:20231212T170000
DTEND;TZID=America/New_York:20231212T180000
DTSTAMP:20260421T052152
CREATED:20231208T174635Z
LAST-MODIFIED:20240119T181322Z
UID:11801-1702400400-1702404000@www.sudburywater.com
SUMMARY:Commissioners Meeting
DESCRIPTION:Download Meeting Agenda  \nDownload Meeting Minutes
URL:https://www.sudburywater.com/meeting/commissioners-meeting-27/
LOCATION:Sudbury Water District Administration Office Conference Room\, 199 Raymond Road\, Sudbury\, MA\, 01776\, United States
ORGANIZER;CN="Sudbury Water District":MAILTO:customerservice@sudburywater.com
END:VEVENT
BEGIN:VEVENT
DTSTART;TZID=America/New_York:20231128T170000
DTEND;TZID=America/New_York:20231128T180000
DTSTAMP:20260421T052152
CREATED:20231124T171348Z
LAST-MODIFIED:20231213T131717Z
UID:11791-1701190800-1701194400@www.sudburywater.com
SUMMARY:Commissioners Meeting
DESCRIPTION:Download Meeting Agenda \nDownload Meeting Minutes
URL:https://www.sudburywater.com/meeting/commissioners-meeting-26/
LOCATION:Sudbury Water District Administration Office Conference Room\, 199 Raymond Road\, Sudbury\, MA\, 01776\, United States
ORGANIZER;CN="Sudbury Water District":MAILTO:customerservice@sudburywater.com
END:VEVENT
BEGIN:VEVENT
DTSTART;TZID=America/New_York:20231114T170000
DTEND;TZID=America/New_York:20231114T180000
DTSTAMP:20260421T052152
CREATED:20231110T134602Z
LAST-MODIFIED:20231130T170656Z
UID:11776-1699981200-1699984800@www.sudburywater.com
SUMMARY:Commissioners Meeting
DESCRIPTION:Download Meeting Agenda \nDownload Meeting Minutes
URL:https://www.sudburywater.com/meeting/commissioner-meeting-5/
LOCATION:Sudbury Water District Administration Office Conference Room\, 199 Raymond Road\, Sudbury\, MA\, 01776\, United States
ORGANIZER;CN="Sudbury Water District":MAILTO:customerservice@sudburywater.com
END:VEVENT
BEGIN:VEVENT
DTSTART;TZID=America/New_York:20231031T170000
DTEND;TZID=America/New_York:20231031T190000
DTSTAMP:20260421T052152
CREATED:20231018T131515Z
LAST-MODIFIED:20231115T144933Z
UID:11750-1698771600-1698778800@www.sudburywater.com
SUMMARY:Commissioners Meeting
DESCRIPTION:Download Agenda \nDownload Meeting Minutes
URL:https://www.sudburywater.com/meeting/commissioners-meeting-25/
LOCATION:Sudbury Water District Administration Office Conference Room\, 199 Raymond Road\, Sudbury\, MA\, 01776\, United States
ORGANIZER;CN="Sudbury Water District":MAILTO:customerservice@sudburywater.com
END:VEVENT
END:VCALENDAR